BEGIN:VCALENDAR
VERSION:2.0
PRODID:-//ChamberMaster//Event Calendar 2.0//EN
METHOD:PUBLISH
X-PUBLISHED-TTL:P3D
REFRESH-INTERVAL:P3D
CALSCALE:GREGORIAN
BEGIN:VEVENT
DTSTART;VALUE=DATE:20231019
DTEND;VALUE=DATE:20231020
TRANSP:TRANSPARENT
X-MICROSOFT-CDO-ALLDAYEVENT:TRUE
SUMMARY:Someplace Safe Wear Purple Day
DESCRIPTION:Day of Purple\n\nOctober Domestic Awareness Month Day of Purple\n\nWear Purple | Pledge your Support | Honor Survivors
X-ALT-DESC;FMTTYPE=text/html:Day of Purple<br />\nOctober Domestic Awareness Month Day of Purple<br />\nWear Purple | Pledge your Support | Honor Survivors
LOCATION:
UID:e.417.5016
SEQUENCE:3
DTSTAMP:20260419T162230Z
URL:https://business.wahpetonbreckenridgechamber.com/events/details/someplace-safe-wear-purple-day-5016
END:VEVENT

END:VCALENDAR
