BEGIN:VCALENDAR
VERSION:2.0
PRODID:-//ChamberMaster//Event Calendar 2.0//EN
METHOD:PUBLISH
X-PUBLISHED-TTL:P3D
REFRESH-INTERVAL:P3D
CALSCALE:GREGORIAN
BEGIN:VEVENT
DTSTART:20251014T223000Z
DTEND:20251015T000000Z
X-MICROSOFT-CDO-ALLDAYEVENT:FALSE
SUMMARY:Silhouette Leaf Pop Art Project
DESCRIPTION:Silhouette Leaf Pop Art Project\n\nFall into this bold and colorful art project using leaf-shaped cutouts\n\nand vibrant oil pastels!
X-ALT-DESC;FMTTYPE=text/html:<strong>Silhouette Leaf Pop Art Project</strong><br />\nFall into this bold and colorful art project using leaf-shaped cutouts<br />\nand vibrant oil pastels!
LOCATION:Breckenridge Public Library 205 7th St N Breckenridge\, MN
UID:e.417.6354
SEQUENCE:3
DTSTAMP:20260421T170854Z
URL:https://business.wahpetonbreckenridgechamber.com/events/details/silhouette-leaf-pop-art-project-6354
END:VEVENT

END:VCALENDAR
