BEGIN:VCALENDAR
VERSION:2.0
PRODID:-//ChamberMaster//Event Calendar 2.0//EN
METHOD:PUBLISH
X-PUBLISHED-TTL:P3D
REFRESH-INTERVAL:P3D
CALSCALE:GREGORIAN
BEGIN:VEVENT
DTSTART;VALUE=DATE:20251129
DTEND;VALUE=DATE:20251130
TRANSP:TRANSPARENT
X-MICROSOFT-CDO-ALLDAYEVENT:TRUE
SUMMARY:Shop\, Drop & Win
DESCRIPTION:Shop\, Drop & Win
X-ALT-DESC;FMTTYPE=text/html:Shop\, Drop &amp\; Win
LOCATION:Breckenridge & Wahpeton Area Businesses
UID:e.417.6362
SEQUENCE:3
DTSTAMP:20260421T154706Z
URL:https://business.wahpetonbreckenridgechamber.com/events/details/shop-drop-win-6362
END:VEVENT

END:VCALENDAR
