BEGIN:VCALENDAR
VERSION:2.0
PRODID:-//ChamberMaster//Event Calendar 2.0//EN
METHOD:PUBLISH
X-PUBLISHED-TTL:P3D
REFRESH-INTERVAL:P3D
CALSCALE:GREGORIAN
BEGIN:VEVENT
DTSTART:20260526T140000Z
DTEND:20260526T171500Z
X-MICROSOFT-CDO-ALLDAYEVENT:FALSE
SUMMARY:Scott's Electric Blood Drive
DESCRIPTION:Scott's Electric Blood Drive\n\nJoin us Tuesday\, May 26th at our blood drive. Appointments available from 9:00am to 12:15pm. As we head into the summer months\, donations tend to drop\, while the need for blood never slows down. Every donation makes a lifesaving difference!\n\n \n\nGive blood May 22-31 to help patients around the Memorial Day holiday and we'll thank you with a customizable "I Give for " T-shirt\, redeemable through Donor Rewards*. Make your appointment today! Donor Rewards program opt-in required. PLUS\, you'll be entered for a chance to win one of three $10\,000 gift cards!
X-ALT-DESC;FMTTYPE=text/html:Scott&#39\;s Electric Blood Drive<br />\n<strong><span style="color:#242424\;"><span style="font-size:11.0pt\;">Join us Tuesday\, May 26<sup>th</sup>&nbsp\;at our blood drive. Appointments available from 9:00am to 12:15pm. As we head into the summer months\, donations tend to drop\, while the need for blood never slows down. Every donation makes a lifesaving difference!</span></span></strong><br />\n&nbsp\;<br />\n<strong><em><span style="color:#242424\;"><span style="font-size:11.0pt\;">Give blood May 22-31 to help patients around the Memorial Day holiday and we&rsquo\;ll thank you with a customizable &ldquo\;I Give for&hellip\;&rdquo\; T-shirt\, redeemable through Donor Rewards*. Make your appointment today! Donor Rewards program opt-in required. PLUS\, you&rsquo\;ll be entered for a chance to win one of three $10\,000 gift cards!</span></span></em></strong><br />\n&nbsp\;
LOCATION:
UID:e.417.7105
SEQUENCE:3
DTSTAMP:20260421T130443Z
URL:https://business.wahpetonbreckenridgechamber.com/events/details/scott-s-electric-blood-drive-7105
END:VEVENT

END:VCALENDAR
