BEGIN:VCALENDAR
VERSION:2.0
PRODID:-//ChamberMaster//Event Calendar 2.0//EN
METHOD:PUBLISH
X-PUBLISHED-TTL:P3D
REFRESH-INTERVAL:P3D
CALSCALE:GREGORIAN
BEGIN:VEVENT
DTSTART:20251209T220000Z
DTEND:20251210T013000Z
X-MICROSOFT-CDO-ALLDAYEVENT:FALSE
SUMMARY:Santa's Soda Shop
DESCRIPTION:Santa's Soda Shop\n\nJoin us for a kid friendly & adult fun event!\n\n\n\nPictures with Santa\n\nEarly Access to our Christmas Menu served as a flight\n\nAnd so much more\n\n \n\nPictures taken by Ariana Arnston Photography
X-ALT-DESC;FMTTYPE=text/html:<p>Santa&#39\;s Soda Shop</p>\n\n<p>Join us for a kid friendly &amp\; adult fun event!<br />\n<br />\nPictures with Santa</p>\n\n<p>Early Access to our Christmas Menu served as a flight</p>\n\n<p>And so much more</p>\n\n<p>&nbsp\;</p>\n\n<p>Pictures taken by Ariana Arnston Photography</p>\n
LOCATION:116 1/2 6th St N\, Wahpeton\, ND 58075
UID:e.417.6469
SEQUENCE:3
DTSTAMP:20260421T143237Z
URL:https://business.wahpetonbreckenridgechamber.com/events/details/santa-s-soda-shop-6469
END:VEVENT

END:VCALENDAR
