BEGIN:VCALENDAR
VERSION:2.0
PRODID:-//ChamberMaster//Event Calendar 2.0//EN
METHOD:PUBLISH
X-PUBLISHED-TTL:P3D
REFRESH-INTERVAL:P3D
CALSCALE:GREGORIAN
BEGIN:VEVENT
DTSTART:20251224T220000Z
DTEND:20251225T000000Z
X-MICROSOFT-CDO-ALLDAYEVENT:FALSE
SUMMARY:Santa & Mrs. Claus at Holiday Lane
DESCRIPTION:Santa + Mrs. Claus at The Holiday Lane
X-ALT-DESC;FMTTYPE=text/html:Santa + Mrs. Claus at The Holiday Lane
LOCATION:Chahinkapa Park Holiday Lane
UID:e.417.6491
SEQUENCE:3
DTSTAMP:20260421T143550Z
URL:https://business.wahpetonbreckenridgechamber.com/events/details/santa-mrs-claus-at-holiday-lane-12-24-2025-6491
END:VEVENT

END:VCALENDAR
