BEGIN:VCALENDAR
VERSION:2.0
PRODID:-//ChamberMaster//Event Calendar 2.0//EN
METHOD:PUBLISH
X-PUBLISHED-TTL:P3D
REFRESH-INTERVAL:P3D
CALSCALE:GREGORIAN
BEGIN:VEVENT
DTSTART:20260424T150000Z
DTEND:20260424T190000Z
X-MICROSOFT-CDO-ALLDAYEVENT:FALSE
SUMMARY:safeTALK
DESCRIPTION:safeTALK - suicide alertness for everyone\n\nFREE TRAINING!
X-ALT-DESC;FMTTYPE=text/html:safeTALK - suicide alertness for everyone<br />\nFREE TRAINING!
LOCATION:Leach Public Library 417 2nd Ave N Wahpeton\, ND 58075
UID:e.417.7108
SEQUENCE:3
DTSTAMP:20260421T081322Z
URL:https://business.wahpetonbreckenridgechamber.com/events/details/safetalk-7108
END:VEVENT

END:VCALENDAR
