BEGIN:VCALENDAR
VERSION:2.0
PRODID:-//ChamberMaster//Event Calendar 2.0//EN
METHOD:PUBLISH
X-PUBLISHED-TTL:P3D
REFRESH-INTERVAL:P3D
CALSCALE:GREGORIAN
BEGIN:VEVENT
DTSTART:20250918T230000Z
DTEND:20250919T030000Z
X-MICROSOFT-CDO-ALLDAYEVENT:FALSE
SUMMARY:RWCF Power of 100
DESCRIPTION:We are taking the Power of 100 on the road! This will be a wonderful evening of entertainment with a purpose! Attend this event and be treated to food\, music and presentations from area organizations working to enhance our communities! This year\, we will hear from BIO-Girls\, Three Rivers Crisis Center\, and The Active Living Committee.
X-ALT-DESC;FMTTYPE=text/html:We are taking the Power of 100 on the road! This will be a wonderful evening of entertainment with a purpose! Attend this event and be treated to food\, music and presentations from area organizations working to enhance our communities! This year\, we will hear from BIO-Girls\, Three Rivers Crisis Center\, and The Active Living Committee.
LOCATION:The 44 Venue - Colfax\, ND.
UID:e.417.6280
SEQUENCE:3
DTSTAMP:20260421T183954Z
URL:https://business.wahpetonbreckenridgechamber.com/events/details/rwcf-power-of-100-09-18-2025-6280
END:VEVENT

END:VCALENDAR
