BEGIN:VCALENDAR
VERSION:2.0
PRODID:-//ChamberMaster//Event Calendar 2.0//EN
METHOD:PUBLISH
X-PUBLISHED-TTL:P3D
REFRESH-INTERVAL:P3D
CALSCALE:GREGORIAN
BEGIN:VEVENT
DTSTART:20220811T190000Z
DTEND:20220811T230000Z
X-MICROSOFT-CDO-ALLDAYEVENT:FALSE
SUMMARY:Richland Wilkin Backpack & Coats for Kids Distribution
DESCRIPTION:Richland Wilkin Backpack and Coats for Kids Distribution.  Thursday\, August 11 from 2PM - 6PM at the Wahpeton Community Center.  No income restrictions and no pre-registration.
X-ALT-DESC;FMTTYPE=text/html:Richland Wilkin Backpack and Coats for Kids Distribution.&nbsp\; Thursday\, August 11 from 2PM - 6PM at the Wahpeton Community Center.&nbsp\; No income restrictions and no pre-registration.
LOCATION:
UID:e.417.4134
SEQUENCE:3
DTSTAMP:20260421T153511Z
URL:https://business.wahpetonbreckenridgechamber.com/events/details/richland-wilkin-backpack-coats-for-kids-distribution-4134
END:VEVENT

END:VCALENDAR
