BEGIN:VCALENDAR
VERSION:2.0
PRODID:-//ChamberMaster//Event Calendar 2.0//EN
METHOD:PUBLISH
X-PUBLISHED-TTL:P3D
REFRESH-INTERVAL:P3D
CALSCALE:GREGORIAN
BEGIN:VEVENT
DTSTART:20230924T180000Z
DTEND:20230924T200000Z
X-MICROSOFT-CDO-ALLDAYEVENT:FALSE
SUMMARY:Richland-Wilin Emergency Food Pantry Open House
DESCRIPTION:Richland-Wilkin Emergency Food Pantry OPEN HOUSE
X-ALT-DESC;FMTTYPE=text/html:Richland-Wilkin Emergency Food Pantry OPEN HOUSE
LOCATION:Richland-Wilkin Emergency Food Pantry 699 8th Ave S Wahpeton\, ND 58075 facebook.com/RWFoodPantry
UID:e.417.4744
SEQUENCE:3
DTSTAMP:20260423T103442Z
URL:https://business.wahpetonbreckenridgechamber.com/events/details/richland-wilin-emergency-food-pantry-open-house-4744
END:VEVENT

END:VCALENDAR
