BEGIN:VCALENDAR
VERSION:2.0
PRODID:-//ChamberMaster//Event Calendar 2.0//EN
METHOD:PUBLISH
X-PUBLISHED-TTL:P3D
REFRESH-INTERVAL:P3D
CALSCALE:GREGORIAN
BEGIN:VEVENT
DTSTART:20231005T234500Z
DTEND:20231006T021000Z
X-MICROSOFT-CDO-ALLDAYEVENT:FALSE
SUMMARY:Red River Valley Veteran's Concert Band
DESCRIPTION:Red River Valley Veterans Concert Band: Celebrating America's Patriotism
X-ALT-DESC;FMTTYPE=text/html:Red River Valley Veterans Concert Band: Celebrating America&#39\;s Patriotism
LOCATION:St Catherine's Care Center @ 6:45pm Bremer Bank Theater @ 8:10pm Harry Stern & Ella Stern Cultural Center\, NDSCS\, 800 6th St N Wahpeton
UID:e.417.4971
SEQUENCE:3
DTSTAMP:20260419T145854Z
URL:https://business.wahpetonbreckenridgechamber.com/events/details/red-river-valley-veteran-s-concert-band-4971
END:VEVENT

END:VCALENDAR
