BEGIN:VCALENDAR
VERSION:2.0
PRODID:-//ChamberMaster//Event Calendar 2.0//EN
METHOD:PUBLISH
X-PUBLISHED-TTL:P3D
REFRESH-INTERVAL:P3D
CALSCALE:GREGORIAN
BEGIN:VEVENT
DTSTART:20231019T220000Z
DTEND:20231020T000000Z
X-MICROSOFT-CDO-ALLDAYEVENT:FALSE
SUMMARY:Red Door Member Appreciation Reception
DESCRIPTION:Red Door Art Gallery Member Appreciation Reception
X-ALT-DESC;FMTTYPE=text/html:Red Door Art Gallery Member Appreciation Reception
LOCATION:Red Door Art Gallery
UID:e.417.4986
SEQUENCE:3
DTSTAMP:20260419T145724Z
URL:https://business.wahpetonbreckenridgechamber.com/events/details/red-door-member-appreciation-reception-4986
END:VEVENT

END:VCALENDAR
