BEGIN:VCALENDAR
VERSION:2.0
PRODID:-//ChamberMaster//Event Calendar 2.0//EN
METHOD:PUBLISH
X-PUBLISHED-TTL:P3D
REFRESH-INTERVAL:P3D
CALSCALE:GREGORIAN
BEGIN:VEVENT
DTSTART:20230110T230000Z
DTEND:20230111T010000Z
X-MICROSOFT-CDO-ALLDAYEVENT:FALSE
SUMMARY:Red Door Art Gallery Juried Student Art Show Artists Reception
DESCRIPTION:Red Door Art Gallery Juried Student Art Show Artists Reception @ Red Door Art Gallery from 5:00 - 7:00 pm.
X-ALT-DESC;FMTTYPE=text/html:Red Door Art Gallery Juried Student Art Show Artists Reception @ Red Door Art Gallery from 5:00 - 7:00 pm.
LOCATION:
UID:e.417.4349
SEQUENCE:3
DTSTAMP:20260421T115739Z
URL:https://business.wahpetonbreckenridgechamber.com/events/details/red-door-art-gallery-juried-student-art-show-artists-reception-4349
END:VEVENT

END:VCALENDAR
