BEGIN:VCALENDAR
VERSION:2.0
PRODID:-//ChamberMaster//Event Calendar 2.0//EN
METHOD:PUBLISH
X-PUBLISHED-TTL:P3D
REFRESH-INTERVAL:P3D
CALSCALE:GREGORIAN
BEGIN:VEVENT
DTSTART:20260129T220000Z
DTEND:20260130T000000Z
X-MICROSOFT-CDO-ALLDAYEVENT:FALSE
SUMMARY:Puzzle Swap
DESCRIPTION:Puzzle Swap\n\nJanuary 29 is National Puzzle Day! Celebrate\n\nwith a puzzle swap at your library. Bring in\n\npuzzles you've already completed and trade\n\nthem for something new-to-you! Puzzles for\n\nall ages and sizes are welcome\, as long as\n\nthey are in good condition and all the pieces\n\nare accounted for.
X-ALT-DESC;FMTTYPE=text/html:Puzzle Swap<br />\nJanuary 29 is National Puzzle Day! Celebrate<br />\nwith a puzzle swap at your library. Bring in<br />\npuzzles you&rsquo\;ve already completed and trade<br />\nthem for something new-to-you! Puzzles for<br />\nall ages and sizes are welcome\, as long as<br />\nthey are in good condition and all the pieces<br />\nare accounted for.
LOCATION:Breck Public Library
UID:e.417.6573
SEQUENCE:3
DTSTAMP:20260421T130749Z
URL:https://business.wahpetonbreckenridgechamber.com/events/details/puzzle-swap-6573
END:VEVENT

END:VCALENDAR
