BEGIN:VCALENDAR
VERSION:2.0
PRODID:-//ChamberMaster//Event Calendar 2.0//EN
METHOD:PUBLISH
X-PUBLISHED-TTL:P3D
REFRESH-INTERVAL:P3D
CALSCALE:GREGORIAN
BEGIN:VEVENT
DTSTART:20240310T200000Z
DTEND:20240310T220000Z
X-MICROSOFT-CDO-ALLDAYEVENT:FALSE
SUMMARY:Puzzle Contest
DESCRIPTION:PUZZLE CONTEST\n\nSupport the Red Door Art Gallery!
X-ALT-DESC;FMTTYPE=text/html:<p>PUZZLE CONTEST</p>\n\n<p>Support the Red Door Art Gallery!</p>\n
LOCATION:Red Door Art Gallery 418 Dakota Ave Wahpeton\, ND 58075
UID:e.417.5180
SEQUENCE:3
DTSTAMP:20260421T134016Z
URL:https://business.wahpetonbreckenridgechamber.com/events/details/puzzle-contest-5180
END:VEVENT

END:VCALENDAR
