BEGIN:VCALENDAR
VERSION:2.0
PRODID:-//ChamberMaster//Event Calendar 2.0//EN
METHOD:PUBLISH
X-PUBLISHED-TTL:P3D
REFRESH-INTERVAL:P3D
CALSCALE:GREGORIAN
BEGIN:VEVENT
DTSTART:20260314T210000Z
DTEND:20260314T230000Z
X-MICROSOFT-CDO-ALLDAYEVENT:FALSE
SUMMARY:Puzzle Competition
DESCRIPTION:Puzzle Competition\n\n\n\nProceeds will go towards Make-A-Wish ND.
X-ALT-DESC;FMTTYPE=text/html:Puzzle Competition<br />\n<br />\nProceeds will go towards Make-A-Wish ND.
LOCATION:Fairmount Community Center
UID:e.417.6580
SEQUENCE:3
DTSTAMP:20260421T102818Z
URL:https://business.wahpetonbreckenridgechamber.com/events/details/puzzle-competition-6580
END:VEVENT

END:VCALENDAR
