BEGIN:VCALENDAR
VERSION:2.0
PRODID:-//ChamberMaster//Event Calendar 2.0//EN
METHOD:PUBLISH
X-PUBLISHED-TTL:P3D
REFRESH-INTERVAL:P3D
CALSCALE:GREGORIAN
BEGIN:VEVENT
DTSTART:20230128T180000Z
DTEND:20230128T210000Z
X-MICROSOFT-CDO-ALLDAYEVENT:FALSE
SUMMARY:Purse Bingo
DESCRIPTION:We're excited to be bringing purse bingo back again this year ++ can't wait for you to join us at City Brew Hall!\n\nBingo will be starting at noon sharp and bingo card packets price is TBD! Seating will be on a first come\, first serve seating\, no reservations.\n\nMake sure you mark your calendars + grab your gal pals this is sure to be a fun event!!
X-ALT-DESC;FMTTYPE=text/html:<div class="x11i5rnm xat24cr x1mh8g0r x1vvkbs xdj266r" style="margin: 0px\; overflow-wrap: break-word\; font-family: &quot\;Segoe UI Historic&quot\;\, &quot\;Segoe UI&quot\;\, Helvetica\, Arial\, sans-serif\; color: rgb(5\, 5\, 5)\; font-size: 15px\;">We&#39\;re excited to be bringing purse bingo back again this year ++ can&#39\;t wait for you to join us at City Brew Hall!</div>\n\n<div class="x11i5rnm xat24cr x1mh8g0r x1vvkbs xtlvy1s" style="margin: 0.5em 0px 0px\; overflow-wrap: break-word\; font-family: &quot\;Segoe UI Historic&quot\;\, &quot\;Segoe UI&quot\;\, Helvetica\, Arial\, sans-serif\; color: rgb(5\, 5\, 5)\; font-size: 15px\;">Bingo will be starting at noon sharp and bingo card packets price is TBD! Seating will be on a first come\, first serve seating\, no reservations.</div>\n\n<div class="x11i5rnm xat24cr x1mh8g0r x1vvkbs xtlvy1s" style="margin: 0.5em 0px 0px\; overflow-wrap: break-word\; font-family: &quot\;Segoe UI Historic&quot\;\, &quot\;Segoe UI&quot\;\, Helvetica\, Arial\, sans-serif\; color: rgb(5\, 5\, 5)\; font-size: 15px\;">Make sure you mark your calendars + grab your gal pals this is sure to be a fun event!!</div>\n
LOCATION:
UID:e.417.4316
SEQUENCE:3
DTSTAMP:20260421T114928Z
URL:https://business.wahpetonbreckenridgechamber.com/events/details/purse-bingo-4316
END:VEVENT

END:VCALENDAR
