BEGIN:VCALENDAR
VERSION:2.0
PRODID:-//ChamberMaster//Event Calendar 2.0//EN
METHOD:PUBLISH
X-PUBLISHED-TTL:P3D
REFRESH-INTERVAL:P3D
CALSCALE:GREGORIAN
BEGIN:VEVENT
DTSTART:20251004T140000Z
DTEND:20251004T170000Z
X-MICROSOFT-CDO-ALLDAYEVENT:FALSE
SUMMARY:Pumpkin Painting and Pantries - UMW Bake Sale at Breckenridge UMC
DESCRIPTION:Join us for a delicious bake sale from the United Methodist Women at Breckenridge United Methodist Church and a pumpkin painting and crafting opportunity for the family! Admission is free and a $5 suggested free will donation is suggested for our famous Caramel Rolls and plenty of goodies to choose from! Come and go as you please. A wonderful addition to your NDSCS parade weekend!
X-ALT-DESC;FMTTYPE=text/html:Join us for a delicious bake sale from the United Methodist Women at Breckenridge United Methodist Church and a pumpkin painting and crafting opportunity for the family! Admission is free and a $5 suggested free will donation is suggested for our famous Caramel Rolls and plenty of goodies to choose from! Come and go as you please. A wonderful addition to your NDSCS parade weekend!
LOCATION:Breckenridge United Methodist Church 910 Main Street Breckenridge\, MN 56520
UID:e.417.6370
SEQUENCE:3
DTSTAMP:20260421T171615Z
URL:https://business.wahpetonbreckenridgechamber.com/events/details/pumpkin-painting-and-pantries-umw-bake-sale-at-breckenridge-umc-6370
END:VEVENT

END:VCALENDAR
