BEGIN:VCALENDAR
VERSION:2.0
PRODID:-//ChamberMaster//Event Calendar 2.0//EN
METHOD:PUBLISH
X-PUBLISHED-TTL:P3D
REFRESH-INTERVAL:P3D
CALSCALE:GREGORIAN
BEGIN:VEVENT
DTSTART:20231025T223000Z
DTEND:20231026T030000Z
X-MICROSOFT-CDO-ALLDAYEVENT:FALSE
SUMMARY:Power of 100 City Brew Hall
DESCRIPTION:Power of 100\n\nJoin for a night of food\, fellowship\, philanthropy and fun! Help us support three area nonprofits that are working so hard to make this a great place to live\, work\, and raise our families.
X-ALT-DESC;FMTTYPE=text/html:Power of 100<br />\n<span style="color: rgb(228\, 230\, 235)\; font-family: &quot\;Segoe UI Historic&quot\;\, &quot\;Segoe UI&quot\;\, Helvetica\, Arial\, sans-serif\; font-size: 15px\; background-color: rgb(36\, 37\, 38)\;">Join for a night of food\, fellowship\, philanthropy and fun! Help us support three area nonprofits that are working so hard to make this a great place to live\, work\, and raise our families.</span>
LOCATION:CIty Brew Hall
UID:e.417.5017
SEQUENCE:3
DTSTAMP:20260419T163405Z
URL:https://business.wahpetonbreckenridgechamber.com/events/details/power-of-100-city-brew-hall-5017
END:VEVENT

END:VCALENDAR
