BEGIN:VCALENDAR
VERSION:2.0
PRODID:-//ChamberMaster//Event Calendar 2.0//EN
METHOD:PUBLISH
X-PUBLISHED-TTL:P3D
REFRESH-INTERVAL:P3D
CALSCALE:GREGORIAN
BEGIN:VEVENT
DTSTART:20251205T000000Z
DTEND:20251205T020000Z
X-MICROSOFT-CDO-ALLDAYEVENT:FALSE
SUMMARY:Porch Pots Class
DESCRIPTION:Porch Pots Class sponsored by St. Marys PTO!\n\nJoin us for a fun hands on workshop where you'll create your own beautiful winter porch pot!\n\n-Supplies provided\n\n-Appetizers and wine\n\n-bring your own gloves and shears\n\n\n\nLimited Availability\n\n\n\nRegister by November 10th! $65
X-ALT-DESC;FMTTYPE=text/html:Porch Pots Class sponsored by St. Marys PTO!<br />\nJoin us for a fun hands on workshop where you&#39\;ll create your own beautiful winter porch pot!<br />\n-Supplies provided<br />\n-Appetizers and wine<br />\n-bring your own gloves and shears<br />\n<br />\nLimited Availability<br />\n<br />\nRegister by November 10th! $65
LOCATION:St. Marys School
UID:e.417.6406
SEQUENCE:3
DTSTAMP:20260421T143817Z
URL:https://business.wahpetonbreckenridgechamber.com/events/details/porch-pots-class-6406
END:VEVENT

END:VCALENDAR
