BEGIN:VCALENDAR
VERSION:2.0
PRODID:-//ChamberMaster//Event Calendar 2.0//EN
METHOD:PUBLISH
X-PUBLISHED-TTL:P3D
REFRESH-INTERVAL:P3D
CALSCALE:GREGORIAN
BEGIN:VEVENT
DTSTART:20251120T203000Z
DTEND:20251120T220000Z
X-MICROSOFT-CDO-ALLDAYEVENT:FALSE
SUMMARY:Pop-Up @ The Childrens Discovery Center
DESCRIPTION:Pop Up at the Childrens Discovery Center\n\nJoin us for a free\, family-friendly pop-up event and get a sneak peek at two pieces from our upcoming "Growing Off the Land" agriculture exhibit!
X-ALT-DESC;FMTTYPE=text/html:Pop Up at the Childrens Discovery Center<br />\n<span style="color: rgb(226\, 229\, 233)\; font-family: &quot\;Segoe UI Historic&quot\;\, &quot\;Segoe UI&quot\;\, Helvetica\, Arial\, sans-serif\; font-size: 15px\; background-color: rgb(37\, 39\, 40)\;">Join us for a free\, family-friendly pop-up event and get a sneak peek at two pieces from our upcoming &ldquo\;Growing Off the Land&rdquo\; agriculture exhibit!</span>
LOCATION:Childrens Discovery Center
UID:e.417.6463
SEQUENCE:3
DTSTAMP:20260421T155645Z
URL:https://business.wahpetonbreckenridgechamber.com/events/details/pop-up-the-childrens-discovery-center-6463
END:VEVENT

END:VCALENDAR
