BEGIN:VCALENDAR
VERSION:2.0
PRODID:-//ChamberMaster//Event Calendar 2.0//EN
METHOD:PUBLISH
X-PUBLISHED-TTL:P3D
REFRESH-INTERVAL:P3D
CALSCALE:GREGORIAN
BEGIN:VEVENT
DTSTART;VALUE=DATE:20230712
DTEND;VALUE=DATE:20230713
TRANSP:TRANSPARENT
X-MICROSOFT-CDO-ALLDAYEVENT:TRUE
SUMMARY:Police Auction
DESCRIPTION:Police Auction
X-ALT-DESC;FMTTYPE=text/html:Police Auction&nbsp\;&nbsp\;&nbsp\;&nbsp\;&nbsp\;&nbsp\;&nbsp\;&nbsp\;&nbsp\;&nbsp\;&nbsp\;&nbsp\;
LOCATION:Wahpeton City Hall 1900 4th St N Wahpeton\, ND 58075
UID:e.417.4671
SEQUENCE:3
DTSTAMP:20260421T103052Z
URL:https://business.wahpetonbreckenridgechamber.com/events/details/police-auction-07-12-2023-4671
END:VEVENT

END:VCALENDAR
