BEGIN:VCALENDAR
VERSION:2.0
PRODID:-//ChamberMaster//Event Calendar 2.0//EN
METHOD:PUBLISH
X-PUBLISHED-TTL:P3D
REFRESH-INTERVAL:P3D
CALSCALE:GREGORIAN
BEGIN:VEVENT
DTSTART:20220816T223000Z
DTEND:20220817T003000Z
X-MICROSOFT-CDO-ALLDAYEVENT:FALSE
SUMMARY:Pitch\, Hit and Run Competition
DESCRIPTION:Pitch\, Hit and Run competition Tuesday\, August 16th\, 5:30 PM at John Randall Field.  Accepting kids 7-14 years old to participate.
X-ALT-DESC;FMTTYPE=text/html:Pitch\, Hit and Run competition Tuesday\, August 16th\, 5:30 PM at John Randall Field.&nbsp\; Accepting kids 7-14 years old to participate.
LOCATION:
UID:e.417.4156
SEQUENCE:3
DTSTAMP:20260421T153308Z
URL:https://business.wahpetonbreckenridgechamber.com/events/details/pitch-hit-and-run-competition-4156
END:VEVENT

END:VCALENDAR
