BEGIN:VCALENDAR
VERSION:2.0
PRODID:-//ChamberMaster//Event Calendar 2.0//EN
METHOD:PUBLISH
X-PUBLISHED-TTL:P3D
REFRESH-INTERVAL:P3D
CALSCALE:GREGORIAN
BEGIN:VEVENT
DTSTART:20260221T140000Z
DTEND:20260221T180000Z
X-MICROSOFT-CDO-ALLDAYEVENT:FALSE
SUMMARY:Pinochle Tournament
DESCRIPTION:3rd Annual Fairmount Veterans Memorial PINOCHLE TOURNAMENT
X-ALT-DESC;FMTTYPE=text/html:3rd Annual Fairmount Veterans Memorial PINOCHLE TOURNAMENT
LOCATION:Fairmount Community Center Fairmount\, ND
UID:e.417.6578
SEQUENCE:3
DTSTAMP:20260421T115335Z
URL:https://business.wahpetonbreckenridgechamber.com/events/details/pinochle-tournament-6578
END:VEVENT

END:VCALENDAR
