BEGIN:VCALENDAR
VERSION:2.0
PRODID:-//ChamberMaster//Event Calendar 2.0//EN
METHOD:PUBLISH
X-PUBLISHED-TTL:P3D
REFRESH-INTERVAL:P3D
CALSCALE:GREGORIAN
BEGIN:VEVENT
DTSTART:20260215T150000Z
DTEND:20260215T190000Z
X-MICROSOFT-CDO-ALLDAYEVENT:FALSE
SUMMARY:Pancakes & Potato Pancakes - Great Bend Fire Department
DESCRIPTION:Pancakes & Potato Pancakes \n\nMade & served by the Great Bend Fire Department\n\n \n\nAll you can eat Potato Pancakes\, Pancakes\, Scrambled Eggs\, Sausage\, Coffee & Juice
X-ALT-DESC;FMTTYPE=text/html:<p>Pancakes &amp\; Potato Pancakes&nbsp\;</p>\n\n<p>Made &amp\; served by the Great Bend Fire Department</p>\n\n<p>&nbsp\;</p>\n\n<p>All you can eat Potato Pancakes\, Pancakes\, Scrambled Eggs\, Sausage\, Coffee &amp\; Juice</p>\n
LOCATION:Great Bend Fire Hall
UID:e.417.6569
SEQUENCE:3
DTSTAMP:20260421T115438Z
URL:https://business.wahpetonbreckenridgechamber.com/events/details/pancakes-potato-pancakes-great-bend-fire-department-6569
END:VEVENT

END:VCALENDAR
