BEGIN:VCALENDAR
VERSION:2.0
PRODID:-//ChamberMaster//Event Calendar 2.0//EN
METHOD:PUBLISH
X-PUBLISHED-TTL:P3D
REFRESH-INTERVAL:P3D
CALSCALE:GREGORIAN
BEGIN:VEVENT
DTSTART:20260118T140000Z
DTEND:20260118T190000Z
X-MICROSOFT-CDO-ALLDAYEVENT:FALSE
SUMMARY:Pancake Breakfast
DESCRIPTION:Pancake Breakfast\n\nBreakfast & Bake Sale on Sanctity Human Life\n\nDelicious stack of pancakes\, scrambled eggs\, sausage\, fruit\, juice\, milk & coffee.
X-ALT-DESC;FMTTYPE=text/html:<p>Pancake Breakfast</p>\n\n<p>Breakfast &amp\; Bake Sale on Sanctity Human Life<br />\nDelicious stack of pancakes\, scrambled eggs\, sausage\, fruit\, juice\, milk &amp\; coffee.<br />\n&nbsp\;</p>\n
LOCATION:St Mary's Catholic Church 221 4th St N Breckenridge\, MN
UID:e.417.6581
SEQUENCE:3
DTSTAMP:20260421T130634Z
URL:https://business.wahpetonbreckenridgechamber.com/events/details/pancake-breakfast-6581
END:VEVENT

END:VCALENDAR
