BEGIN:VCALENDAR
VERSION:2.0
PRODID:-//ChamberMaster//Event Calendar 2.0//EN
METHOD:PUBLISH
X-PUBLISHED-TTL:P3D
REFRESH-INTERVAL:P3D
CALSCALE:GREGORIAN
BEGIN:VEVENT
DTSTART:20260122T223000Z
DTEND:20260123T010000Z
X-MICROSOFT-CDO-ALLDAYEVENT:FALSE
SUMMARY:Painting Class - Into The Birch Woods
DESCRIPTION:Join us to paint your own birch tree scene!\n\nCreate a bit of woodland magic during\n\nour Into the Birch Woods painting\n\nworkshop. Participants are invited to\n\npaint their own birch tree scene with all\n\nmaterials provided\, just bring yourself!\n\nIt's a fun and relaxing way to explore art\n\nand be creative.
X-ALT-DESC;FMTTYPE=text/html:Join us to paint your own birch tree scene!<br />\nCreate a bit of woodland magic during<br />\nour Into the Birch Woods painting<br />\nworkshop. Participants are invited to<br />\npaint their own birch tree scene with all<br />\nmaterials provided\, just bring yourself!<br />\nIt&rsquo\;s a fun and relaxing way to explore art<br />\nand be creative.
LOCATION:Breck Public Library
UID:e.417.6574
SEQUENCE:3
DTSTAMP:20260421T131401Z
URL:https://business.wahpetonbreckenridgechamber.com/events/details/painting-class-into-the-birch-woods-6574
END:VEVENT

END:VCALENDAR
