BEGIN:VCALENDAR
VERSION:2.0
PRODID:-//ChamberMaster//Event Calendar 2.0//EN
METHOD:PUBLISH
X-PUBLISHED-TTL:P3D
REFRESH-INTERVAL:P3D
CALSCALE:GREGORIAN
BEGIN:VEVENT
DTSTART;VALUE=DATE:20260321
DTEND;VALUE=DATE:20260322
TRANSP:TRANSPARENT
X-MICROSOFT-CDO-ALLDAYEVENT:TRUE
SUMMARY:Paint Party Mini Sessions
DESCRIPTION:Paint Party Mini Sessions @ Studio 22 Designs\n\n$250 | 20 Minutes\n\n15 Digital Images\n\n\n\nCreate a canvas you can bring home with you!
X-ALT-DESC;FMTTYPE=text/html:Paint Party Mini Sessions @ Studio 22 Designs<br />\n$250 | 20 Minutes<br />\n15 Digital Images<br />\n<br />\nCreate a canvas you can bring home with you!
LOCATION:Studio 22 Designs
UID:e.417.7015
SEQUENCE:3
DTSTAMP:20260421T081342Z
URL:https://business.wahpetonbreckenridgechamber.com/events/details/paint-party-mini-sessions-7015
END:VEVENT

END:VCALENDAR
