BEGIN:VCALENDAR
VERSION:2.0
PRODID:-//ChamberMaster//Event Calendar 2.0//EN
METHOD:PUBLISH
X-PUBLISHED-TTL:P3D
REFRESH-INTERVAL:P3D
CALSCALE:GREGORIAN
BEGIN:VEVENT
DTSTART:20220820T170000Z
DTEND:20220821T040000Z
X-MICROSOFT-CDO-ALLDAYEVENT:FALSE
SUMMARY:Operation Zero Bike Show and Street Dance
DESCRIPTION:12-11PM on Dakota Ave\n\nOperation Zero Bike Show and Street Dance
X-ALT-DESC;FMTTYPE=text/html:12-11PM on Dakota Ave<br />\nOperation Zero Bike Show and Street Dance
LOCATION:
UID:e.417.4080
SEQUENCE:3
DTSTAMP:20260421T154039Z
URL:https://business.wahpetonbreckenridgechamber.com/events/details/operation-zero-bike-show-and-street-dance-4080
END:VEVENT

END:VCALENDAR
