BEGIN:VCALENDAR
VERSION:2.0
PRODID:-//ChamberMaster//Event Calendar 2.0//EN
METHOD:PUBLISH
X-PUBLISHED-TTL:P3D
REFRESH-INTERVAL:P3D
CALSCALE:GREGORIAN
BEGIN:VEVENT
DTSTART:20231025T213000Z
DTEND:20231025T230000Z
X-MICROSOFT-CDO-ALLDAYEVENT:FALSE
SUMMARY:Open Houses: Hosted by Lisa Mauch and Burchill Construction
DESCRIPTION:16th Street North Breckenridge Open Houses: Hosted by Lisa Mauch and Burchill Construction\nBe sure to mark your calendars for this special OPEN HOUSE event in Breckenridge on October 25th! Tour SEVEN newly constructed homes by Burchill Construction and enjoy pulled pork sandwiches\, Halloween treats\, and refreshments.\n\n102 16th Street N\n\n105 16th Street N\n\n108 16th Street N\n\n109 16th Street N\n\n115 16th Street N\n\n205 16th Street N\n\n211 16th Street N\n\nBreckenridge\n\nSign up for chances to win gift cards!\n\nHosted by Lisa Mauch\, Miller Realty and Burchill Construction.\n\nTreats and refreshments compliments of Amanda Crouse\, Bremer Mortgage.\n\nLisa Mauch\, Miller Realty Inc.\n\n522 Minnesota Ave\, Breckenridge\, MN\n\n218.643.5505 / 701.640.5281\n\nlisa.mauch1@gmail.com
X-ALT-DESC;FMTTYPE=text/html:16th Street North Breckenridge Open Houses: Hosted by Lisa Mauch and Burchill Construction\n<div class="xdj266r x11i5rnm xat24cr x1mh8g0r x1vvkbs" style="margin: 0px\; overflow-wrap: break-word\; font-family: &quot\;Segoe UI Historic&quot\;\, &quot\;Segoe UI&quot\;\, Helvetica\, Arial\, sans-serif\; color: rgb(228\, 230\, 235)\; font-size: 15px\; background-color: rgb(36\, 37\, 38)\;">Be sure to mark your calendars for this special OPEN HOUSE event in Breckenridge on October 25th! Tour SEVEN newly constructed homes by Burchill Construction and enjoy pulled pork sandwiches\, Halloween treats\, and refreshments.</div>\n\n<div class="x11i5rnm xat24cr x1mh8g0r x1vvkbs xtlvy1s" style="margin: 0.5em 0px 0px\; overflow-wrap: break-word\; font-family: &quot\;Segoe UI Historic&quot\;\, &quot\;Segoe UI&quot\;\, Helvetica\, Arial\, sans-serif\; color: rgb(228\, 230\, 235)\; font-size: 15px\; background-color: rgb(36\, 37\, 38)\;">102 16th Street N<br />\n105 16th Street N<br />\n108 16th Street N<br />\n109 16th Street N<br />\n115 16th Street N<br />\n205 16th Street N<br />\n211 16th Street N<br />\nBreckenridge</div>\n\n<div class="x11i5rnm xat24cr x1mh8g0r x1vvkbs xtlvy1s" style="margin: 0.5em 0px 0px\; overflow-wrap: break-word\; font-family: &quot\;Segoe UI Historic&quot\;\, &quot\;Segoe UI&quot\;\, Helvetica\, Arial\, sans-serif\; color: rgb(228\, 230\, 235)\; font-size: 15px\; background-color: rgb(36\, 37\, 38)\;">Sign up for chances to win gift cards!</div>\n\n<div class="x11i5rnm xat24cr x1mh8g0r x1vvkbs xtlvy1s" style="margin: 0.5em 0px 0px\; overflow-wrap: break-word\; font-family: &quot\;Segoe UI Historic&quot\;\, &quot\;Segoe UI&quot\;\, Helvetica\, Arial\, sans-serif\; color: rgb(228\, 230\, 235)\; font-size: 15px\; background-color: rgb(36\, 37\, 38)\;">Hosted by Lisa Mauch\, Miller Realty and Burchill Construction.<br />\nTreats and refreshments compliments of Amanda Crouse\, Bremer Mortgage.</div>\n\n<div class="x11i5rnm xat24cr x1mh8g0r x1vvkbs xtlvy1s" style="margin: 0.5em 0px 0px\; overflow-wrap: break-word\; font-family: &quot\;Segoe UI Historic&quot\;\, &quot\;Segoe UI&quot\;\, Helvetica\, Arial\, sans-serif\; color: rgb(228\, 230\, 235)\; font-size: 15px\; background-color: rgb(36\, 37\, 38)\;">Lisa Mauch\, Miller Realty Inc.<br />\n522 Minnesota Ave\, Breckenridge\, MN<br />\n218.643.5505 / 701.640.5281<br />\nlisa.mauch1@gmail.com</div>\n
LOCATION:102 16th Street North\, Breckenridge MN
UID:e.417.5026
SEQUENCE:3
DTSTAMP:20260419T162052Z
URL:https://business.wahpetonbreckenridgechamber.com/events/details/open-houses-hosted-by-lisa-mauch-and-burchill-construction-5026
END:VEVENT

END:VCALENDAR
