BEGIN:VCALENDAR
VERSION:2.0
PRODID:-//ChamberMaster//Event Calendar 2.0//EN
METHOD:PUBLISH
X-PUBLISHED-TTL:P3D
REFRESH-INTERVAL:P3D
CALSCALE:GREGORIAN
BEGIN:VEVENT
DTSTART:20251020T220000Z
DTEND:20251021T000000Z
X-MICROSOFT-CDO-ALLDAYEVENT:FALSE
SUMMARY:Open House @ Breck Public Library
DESCRIPTION:You're Invited!\n\nOpen House @ Breckenridge Public Library\n\n\n\nUnwrap the treasures of your library - Join us at the Friends of the Library Open House! Enjoy coffee and refreshments. Get to know current members. learn about Friends Activities. Join or renew your membership! Share your favorite library memory! Door Prizes!
X-ALT-DESC;FMTTYPE=text/html:You&#39\;re Invited!<br />\nOpen House @ Breckenridge Public Library<br />\n<br />\nUnwrap the treasures of your library - Join us at the Friends of the Library Open House! Enjoy coffee and refreshments. Get to know current members. learn about Friends Activities. Join or renew your membership! Share your favorite library memory! Door Prizes!
LOCATION:Breckenridge Public Library 205 7th St N
UID:e.417.6386
SEQUENCE:3
DTSTAMP:20260421T171047Z
URL:https://business.wahpetonbreckenridgechamber.com/events/details/open-house-breck-public-library-6386
END:VEVENT

END:VCALENDAR
