BEGIN:VCALENDAR
VERSION:2.0
PRODID:-//ChamberMaster//Event Calendar 2.0//EN
METHOD:PUBLISH
X-PUBLISHED-TTL:P3D
REFRESH-INTERVAL:P3D
CALSCALE:GREGORIAN
BEGIN:VEVENT
DTSTART:20251030T230000Z
DTEND:20251031T010000Z
X-MICROSOFT-CDO-ALLDAYEVENT:FALSE
SUMMARY:NDSCS Scuba Course
DESCRIPTION:NDSCS Scuba\n\nCome and join us to learn scuba diving. Take the first steps in becoming an open water scuba diver. This is a 6 week course one night a week. You can sign up at Micks Scuba 218-233-0448 or online at micksscuba.com.
X-ALT-DESC;FMTTYPE=text/html:NDSCS Scuba<br />\n<span background-color:="" font-size:="" segoe="" ui="">Come and join us to learn scuba diving. Take the first steps in becoming an open water scuba diver. This is a 6 week course one night a week. You can sign up at Micks Scuba 218-233-0448 or online at&nbsp\;</span><a attributionsrc="/privacy_sandbox/comet/register/source/?xt=AZUBbEPBlTcCaFB5bP8Lufyv28kQeH5k1QwNoq9-VpUfVUWjbIwFigTo2MpGw1AocErdBTQO5zJqIpj6deJJIb9Ec47-4ljbKqtV0n1bDi389OjvhcccbgSWZtzJInczwF4wGpbwpFoV2R_fqwfZonpIOcXEHRHi_zitawLbc7klCRlMEoaSTC_MjJByzQiRsZMZGeatF0sDh05HbQrIRcE26Tj_mvUrP2Y18Becwf467bzmef5gGx2kziY13NY6QG8kasUygCfXjOWUgdbPO7ES5cuC-fSvvLO7YjOj6lebVeRM9jbuEl-DxvR8tTO1exhneRANOYvLH8MB4QoP37ppL71LqE-2f0jzqpy71zo4CE2-TIq_XaF7v3D7xfL9Q6bQaJuCbb2V_VqS_jWJoiHKYixxxSZRaIvyGvazTrsDFLtCxp9ZHN9KvTF27_5H47BFulmkirMJrx92GpbxSdvHzr6MBZlUkbf6JL_APS8nljrgWIovuY9Z35wWsAA63kVBlPUR3D_sI0efZefBDPYQWVZk5xlxbxIBYuFiY-RLQV894240OwLSPij26p7koqO-yFfj1xC6YS1JMHpbZyM8CgFoFRdrhass2YozH7_C_vzdYW4aHr-WHLJZvtFRu8ty6akSUR1UHdgHIPd50d0Oys-81TeAFN7GQON6ZrEJInbd5T3XRiJq7vJFpTZlXCafcwNpMl2LpSnJhh0l5-uWQAsKG5sAGViFdidiEBZ9nTm-apvWRg1MXA10Phyfk2LLwaFzg_rMpM6HR3QIgom8qFMlkDplgQUNokwFZQZaF0pQW1Z721_WirhKy04zWqU-6N8Y2zvI78lpffR_7Np_N_mRuRQHFhbpCfXRL4shCA" class="x1i10hfl xjbqb8w x1ejq31n x18oe1m7 x1sy0etr xstzfhl x972fbf x10w94by x1qhh985 x14e42zd x9f619 x1ypdohk xt0psk2 x3ct3a4 xdj266r x14z9mp xat24cr x1lziwak xexx8yu xyri2b x18d9i69 x1c1uobl x16tdsg8 x1hl2dhg xggy1nq x1a2a7pz xkrqix3 x1sur9pj x1fey0fg x1s688f" font-size:="" href="http://micksscuba.com/?fbclid=IwZXh0bgNhZW0CMTAAYnJpZBExbkpNWTNBVTk1NENrZ2RHNAEe6SpokXiJom-TFWuoOSGbHNklVjyEwA3gvuNr6ymVNKlwglxNW8W7w8abFXI_aem_ylTF19QRlEfl8Fp9tfZSew" rel="nofollow noreferrer" role="link" segoe="" style="color: rgb(90\, 167\, 255)\; cursor: pointer\; text-decoration-line: none\; list-style-type: none\; box-sizing: border-box\; background-color: rgb(37\, 39\, 40)\; outline: none\; -webkit-tap-highlight-color: transparent\; font-weight: 600\; touch-action: manipulation\; display: inline\; border-inline-width: 0px\; margin-inline: 0px\; border-inline-style: none\; padding-inline: 0px\; padding-bottom: 0px\; border-top-style: none\; border-bottom-width: 0px\; border-bottom-style: none\; border-top-width: 0px\; margin-bottom: 0px\; margin-top: 0px\; padding-top: 0px\; font-family: " tabindex="0" target="_blank" ui="">micksscuba.com.</a><span background-color:="" font-size:="" segoe="" ui="">&nbsp\;</span>
LOCATION:Blikre Activities Center
UID:e.417.6357
SEQUENCE:3
DTSTAMP:20260421T170848Z
URL:https://business.wahpetonbreckenridgechamber.com/events/details/ndscs-scuba-course-6357
END:VEVENT

END:VCALENDAR
