BEGIN:VCALENDAR
VERSION:2.0
PRODID:-//ChamberMaster//Event Calendar 2.0//EN
METHOD:PUBLISH
X-PUBLISHED-TTL:P3D
REFRESH-INTERVAL:P3D
CALSCALE:GREGORIAN
BEGIN:VEVENT
DTSTART:20220821T210000Z
DTEND:20220822T000000Z
X-MICROSOFT-CDO-ALLDAYEVENT:FALSE
SUMMARY:NDSCS Opening Week Block Party
DESCRIPTION:Meet the new NDSCS President\, welcome our students\, and visit with area businesses. Free Food * Yard Games* Entertainment
X-ALT-DESC;FMTTYPE=text/html:Meet the new NDSCS President\, welcome our students\, and visit with area businesses. Free Food * Yard Games* Entertainment
LOCATION:North Dakota State College of Science Oval
UID:e.417.4128
SEQUENCE:3
DTSTAMP:20260421T153321Z
URL:https://business.wahpetonbreckenridgechamber.com/events/details/ndscs-opening-week-block-party-4128
END:VEVENT

END:VCALENDAR
