BEGIN:VCALENDAR
VERSION:2.0
PRODID:-//ChamberMaster//Event Calendar 2.0//EN
METHOD:PUBLISH
X-PUBLISHED-TTL:P3D
REFRESH-INTERVAL:P3D
CALSCALE:GREGORIAN
BEGIN:VEVENT
DTSTART;VALUE=DATE:20231007
DTEND;VALUE=DATE:20231008
TRANSP:TRANSPARENT
X-MICROSOFT-CDO-ALLDAYEVENT:TRUE
SUMMARY:NDSCS Homecoming
DESCRIPTION:North Dakota State College of Science Homecoming Day
X-ALT-DESC;FMTTYPE=text/html:North Dakota State College of Science Homecoming Day
LOCATION:10 a.m. Parade | Downtown Breckenridge/Wahpeton 11:30 a.m. - 1:30 p.m. Tailgate Celebration | Frank Vertin Field Parking Lot Hog Roast Meal $8/plate in advance or $10/plate at the door | available until gone 1:30 p.m. NDSCS Football vs. Rochester Community and Technical College | Frank Vertin Field
UID:e.417.4630
SEQUENCE:3
DTSTAMP:20260419T161017Z
URL:https://business.wahpetonbreckenridgechamber.com/events/details/ndscs-homecoming-4630
END:VEVENT

END:VCALENDAR
