BEGIN:VCALENDAR
VERSION:2.0
PRODID:-//ChamberMaster//Event Calendar 2.0//EN
METHOD:PUBLISH
X-PUBLISHED-TTL:P3D
REFRESH-INTERVAL:P3D
CALSCALE:GREGORIAN
BEGIN:VEVENT
DTSTART;VALUE=DATE:20240502
DTEND;VALUE=DATE:20240503
TRANSP:TRANSPARENT
X-MICROSOFT-CDO-ALLDAYEVENT:TRUE
SUMMARY:NDSCS Agawasie Day Car ShowNDSCS Agawasie Day Car Show
DESCRIPTION:NDSCS Agawasie Day Car Show
X-ALT-DESC;FMTTYPE=text/html:<span style="font-family:aptos\,sans-serif\;"><span style="font-size:14.0pt\;">NDSCS Agawasie Day Car Show</span></span>
LOCATION:
UID:e.417.5460
SEQUENCE:3
DTSTAMP:20260425T164127Z
URL:https://business.wahpetonbreckenridgechamber.com/events/details/ndscs-agawasie-day-car-showndscs-agawasie-day-car-show-5460
END:VEVENT

END:VCALENDAR
