BEGIN:VCALENDAR
VERSION:2.0
PRODID:-//ChamberMaster//Event Calendar 2.0//EN
METHOD:PUBLISH
X-PUBLISHED-TTL:P3D
REFRESH-INTERVAL:P3D
CALSCALE:GREGORIAN
BEGIN:VEVENT
DTSTART:20251123T200000Z
DTEND:20251123T220000Z
X-MICROSOFT-CDO-ALLDAYEVENT:FALSE
SUMMARY:Myths Busted!
DESCRIPTION:Breckenridge High School Drama Department presents:\n\nMyths Busted!
X-ALT-DESC;FMTTYPE=text/html:<p>Breckenridge High School Drama Department presents:</p>\n\n<p>Myths Busted!</p>\n
LOCATION:Breckenridge HS Auditorium
UID:e.417.6476
SEQUENCE:3
DTSTAMP:20260421T154704Z
URL:https://business.wahpetonbreckenridgechamber.com/events/details/myths-busted-6476
END:VEVENT

END:VCALENDAR
