BEGIN:VCALENDAR
VERSION:2.0
PRODID:-//ChamberMaster//Event Calendar 2.0//EN
METHOD:PUBLISH
X-PUBLISHED-TTL:P3D
REFRESH-INTERVAL:P3D
CALSCALE:GREGORIAN
BEGIN:VEVENT
DTSTART:20240505T200000Z
DTEND:20240505T213000Z
X-MICROSOFT-CDO-ALLDAYEVENT:FALSE
SUMMARY:Musical Art Club and Alphean Male Chorus Concert
DESCRIPTION:Musical Art Club and Alphean Male Chorus Concert\n\nThe Musical Art Club and Alphean Male Chorus are excited to offer music camp scholarships to area Middle and High School students.  Two scholarships in the amount of $250 will be awarded. The scholarships are intended for use this coming summer. Students may contact their music teachers for the application\, or contact Melissa Frank\, Musical Art Club President\, at animalkah@hotmail.com.  Applications are due by May 1.
X-ALT-DESC;FMTTYPE=text/html:<p><span style="font-family:aptos\,sans-serif\;"><span style="font-size:14.0pt\;">Musical Art Club and Alphean Male Chorus Concert</span></span></p>\n\n<p><em>The Musical Art Club and Alphean Male Chorus are excited to offer music camp scholarships to area Middle and High School students.&nbsp\; Two scholarships in the amount of $250 will be awarded. The scholarships are intended for use this coming summer. Students may contact their music teachers for the application\, or contact Melissa Frank\, Musical Art Club President\, at <a href="mailto:animalkah@hotmail.com">animalkah@hotmail.com</a>.&nbsp\; Applications are due by May 1.</em><br />\n&nbsp\;</p>\n
LOCATION:Grace Lutheran Church - Breckenridge\, MN
UID:e.417.5470
SEQUENCE:3
DTSTAMP:20260425T164132Z
URL:https://business.wahpetonbreckenridgechamber.com/events/details/musical-art-club-and-alphean-male-chorus-concert-5470
END:VEVENT

END:VCALENDAR
