BEGIN:VCALENDAR
VERSION:2.0
PRODID:-//ChamberMaster//Event Calendar 2.0//EN
METHOD:PUBLISH
X-PUBLISHED-TTL:P3D
REFRESH-INTERVAL:P3D
CALSCALE:GREGORIAN
BEGIN:VEVENT
DTSTART:20220825T003000Z
DTEND:20220825T013000Z
X-MICROSOFT-CDO-ALLDAYEVENT:FALSE
SUMMARY:Music in the Park - Soggy Bottom Science Boys
DESCRIPTION:Soggy Bottom Science Boys at the Chahinkapa Park Band Shelter.
X-ALT-DESC;FMTTYPE=text/html:Soggy Bottom Science Boys at the Chahinkapa Park Band Shelter.
LOCATION:
UID:e.417.3792
SEQUENCE:3
DTSTAMP:20260421T154003Z
URL:https://business.wahpetonbreckenridgechamber.com/events/details/music-in-the-park-soggy-bottom-science-boys-3792
END:VEVENT

END:VCALENDAR
