BEGIN:VCALENDAR
VERSION:2.0
PRODID:-//ChamberMaster//Event Calendar 2.0//EN
METHOD:PUBLISH
X-PUBLISHED-TTL:P3D
REFRESH-INTERVAL:P3D
CALSCALE:GREGORIAN
BEGIN:VEVENT
DTSTART:20230118T193000Z
DTEND:20230118T233000Z
X-MICROSOFT-CDO-ALLDAYEVENT:FALSE
SUMMARY:Movie Day Featuring "Up"
DESCRIPTION:Breckenridge Family Community/Teen Center Presents:  Our Early Out Productions Movie Day Featuring: "Up".  join us for door prizes\, goody bags\, pizza\, and popcorn!  For $6 you get 2 slices of pizza and a soda or water.  Free popcorn.  The 'Up" movie starts at 2:15. Pizza is ready by 3:00.  Door prizes are drawn at 3:30.
X-ALT-DESC;FMTTYPE=text/html:Breckenridge Family Community/Teen Center Presents:&nbsp\; Our Early Out Productions Movie Day Featuring: &quot\;Up&quot\;.&nbsp\; join us for door prizes\, goody bags\, pizza\, and popcorn!&nbsp\; For $6 you get 2 slices of pizza and a soda or water.&nbsp\; Free popcorn.&nbsp\; The &#39\;Up&quot\; movie starts at 2:15. Pizza is ready by 3:00.&nbsp\; Door prizes are drawn at 3:30.
LOCATION:
UID:e.417.4312
SEQUENCE:3
DTSTAMP:20260421T103002Z
URL:https://business.wahpetonbreckenridgechamber.com/events/details/movie-day-featuring-up-4312
END:VEVENT

END:VCALENDAR
