BEGIN:VCALENDAR
VERSION:2.0
PRODID:-//ChamberMaster//Event Calendar 2.0//EN
METHOD:PUBLISH
X-PUBLISHED-TTL:P3D
REFRESH-INTERVAL:P3D
CALSCALE:GREGORIAN
BEGIN:VEVENT
DTSTART:20231011T181500Z
DTEND:20231011T223000Z
X-MICROSOFT-CDO-ALLDAYEVENT:FALSE
SUMMARY:Movie Day & Coloring Contest
DESCRIPTION:Movie Day & Coloring Contest
X-ALT-DESC;FMTTYPE=text/html:Movie Day &amp\; Coloring Contest
LOCATION:Breckenridge Family Community/Teen Center
UID:e.417.4982
SEQUENCE:3
DTSTAMP:20260419T162536Z
URL:https://business.wahpetonbreckenridgechamber.com/events/details/movie-day-coloring-contest-4982
END:VEVENT

END:VCALENDAR
