BEGIN:VCALENDAR
VERSION:2.0
PRODID:-//ChamberMaster//Event Calendar 2.0//EN
METHOD:PUBLISH
X-PUBLISHED-TTL:P3D
REFRESH-INTERVAL:P3D
CALSCALE:GREGORIAN
BEGIN:VEVENT
DTSTART:20240316T220000Z
DTEND:20240317T010000Z
X-MICROSOFT-CDO-ALLDAYEVENT:FALSE
SUMMARY:Mooreton Fire Department Meat Raffle
DESCRIPTION:Mooreton Fire Department Meat Raffle
X-ALT-DESC;FMTTYPE=text/html:Mooreton Fire Department Meat Raffle
LOCATION:Antelope Creek Bar & Grill
UID:e.417.5425
SEQUENCE:3
DTSTAMP:20260421T150155Z
URL:https://business.wahpetonbreckenridgechamber.com/events/details/mooreton-fire-department-meat-raffle-5425
END:VEVENT

END:VCALENDAR
