BEGIN:VCALENDAR
VERSION:2.0
PRODID:-//ChamberMaster//Event Calendar 2.0//EN
METHOD:PUBLISH
X-PUBLISHED-TTL:P3D
REFRESH-INTERVAL:P3D
CALSCALE:GREGORIAN
BEGIN:VEVENT
DTSTART:20260112T210000Z
DTEND:20260112T233000Z
X-MICROSOFT-CDO-ALLDAYEVENT:FALSE
SUMMARY:Monday Madness Tournament - Ping Pong
DESCRIPTION:Monday Madness Tournament \n\n\n\nAges 10 and Up\n\nYouth under 10 are welcome\, but must be accompanied by an adult
X-ALT-DESC;FMTTYPE=text/html:<p>Monday Madness Tournament&nbsp\;<br />\n<br />\nAges 10 and Up</p>\n\n<p>Youth under 10 are welcome\, but must be accompanied by an adult</p>\n
LOCATION:Breckenridge Teen Center
UID:e.417.6564
SEQUENCE:3
DTSTAMP:20260421T131440Z
URL:https://business.wahpetonbreckenridgechamber.com/events/details/monday-madness-tournament-ping-pong-6564
END:VEVENT

END:VCALENDAR
