BEGIN:VCALENDAR
VERSION:2.0
PRODID:-//ChamberMaster//Event Calendar 2.0//EN
METHOD:PUBLISH
X-PUBLISHED-TTL:P3D
REFRESH-INTERVAL:P3D
CALSCALE:GREGORIAN
BEGIN:VEVENT
DTSTART:20250929T203000Z
DTEND:20250929T230000Z
X-MICROSOFT-CDO-ALLDAYEVENT:FALSE
SUMMARY:Mini Movie Monday
DESCRIPTION:Mini Movie Monday at Breck Family community center\n\nMovie starts at 3:45 pm - Pizza Delivered at 3:30 pm\n\n\n\nFeatured Movie: Shaun the Sheep series \n\ncoloring contest ages 1-15\n\nColoring Contest sept 2nd - 29th winner announced sep 30th
X-ALT-DESC;FMTTYPE=text/html:Mini Movie Monday at Breck Family community center<br />\nMovie starts at 3:45 pm - Pizza Delivered at 3:30 pm<br />\n<br />\nFeatured Movie: Shaun the Sheep series&nbsp\;<br />\ncoloring contest ages 1-15<br />\nColoring Contest sept 2nd - 29th winner announced sep 30th
LOCATION:Breck Family Community center
UID:e.417.6336
SEQUENCE:3
DTSTAMP:20260421T183743Z
URL:https://business.wahpetonbreckenridgechamber.com/events/details/mini-movie-monday-6336
END:VEVENT

END:VCALENDAR
