BEGIN:VCALENDAR
VERSION:2.0
PRODID:-//ChamberMaster//Event Calendar 2.0//EN
METHOD:PUBLISH
X-PUBLISHED-TTL:P3D
REFRESH-INTERVAL:P3D
CALSCALE:GREGORIAN
BEGIN:VEVENT
DTSTART:20251113T230000Z
DTEND:20251114T010000Z
X-MICROSOFT-CDO-ALLDAYEVENT:FALSE
SUMMARY:Membership Appreciation Night - RDAG
DESCRIPTION:PLEASE JOIN\n\nThe Red Door Art Gallery\n\nMEMBERSHIP APPRECIATION NIGHT\n\n\n\nIn appreciation of your continued membership\, volunteerism\, and contributions to the arts\, we invite you to join us in celebrating the Arts.\n\n\n\nThis event will be help in conjunction with the exhibition of works from the Manoomin Arts Initiative.
X-ALT-DESC;FMTTYPE=text/html:PLEASE JOIN<br />\nThe Red Door Art Gallery<br />\nMEMBERSHIP APPRECIATION NIGHT<br />\n<br />\nIn appreciation of your continued membership\, volunteerism\, and contributions to the arts\, we invite you to join us in celebrating the Arts.<br />\n<br />\nThis event will be help in conjunction with the exhibition of works from the Manoomin Arts Initiative.
LOCATION:Red Door Art Gallery 418 Dakota Ave / Wahpeton ND
UID:e.417.6465
SEQUENCE:3
DTSTAMP:20260421T154805Z
URL:https://business.wahpetonbreckenridgechamber.com/events/details/membership-appreciation-night-rdag-6465
END:VEVENT

END:VCALENDAR
