BEGIN:VCALENDAR
VERSION:2.0
PRODID:-//ChamberMaster//Event Calendar 2.0//EN
METHOD:PUBLISH
X-PUBLISHED-TTL:P3D
REFRESH-INTERVAL:P3D
CALSCALE:GREGORIAN
BEGIN:VEVENT
DTSTART:20231026T000000Z
DTEND:20231026T030000Z
X-MICROSOFT-CDO-ALLDAYEVENT:FALSE
SUMMARY:Meat Raffle
DESCRIPTION:Meat Raffle at City Brew Hall
X-ALT-DESC;FMTTYPE=text/html:Meat Raffle at City Brew Hall
LOCATION:City Brew Hall
UID:e.417.4972
SEQUENCE:3
DTSTAMP:20260419T161005Z
URL:https://business.wahpetonbreckenridgechamber.com/events/details/meat-raffle-4972
END:VEVENT

END:VCALENDAR
