BEGIN:VCALENDAR
VERSION:2.0
PRODID:-//ChamberMaster//Event Calendar 2.0//EN
METHOD:PUBLISH
X-PUBLISHED-TTL:P3D
REFRESH-INTERVAL:P3D
CALSCALE:GREGORIAN
BEGIN:VEVENT
DTSTART:20260213T210000Z
DTEND:20260214T010000Z
X-MICROSOFT-CDO-ALLDAYEVENT:FALSE
SUMMARY:Love Your Youth Program Fundraiser
DESCRIPTION:4th Annual Love Your Youth Program Fundraiser
X-ALT-DESC;FMTTYPE=text/html:4th Annual Love Your Youth Program Fundraiser
LOCATION:Breckenridge Family Community/Teen Center
UID:e.417.6565
SEQUENCE:3
DTSTAMP:20260421T115142Z
URL:https://business.wahpetonbreckenridgechamber.com/events/details/love-your-youth-program-fundraiser-6565
END:VEVENT

END:VCALENDAR
