BEGIN:VCALENDAR
VERSION:2.0
PRODID:-//ChamberMaster//Event Calendar 2.0//EN
METHOD:PUBLISH
X-PUBLISHED-TTL:P3D
REFRESH-INTERVAL:P3D
CALSCALE:GREGORIAN
BEGIN:VEVENT
DTSTART:20251011T000000Z
DTEND:20251011T020000Z
X-MICROSOFT-CDO-ALLDAYEVENT:FALSE
SUMMARY:Live Music @ The Brew
DESCRIPTION:Live Music with Darren Quam\n\nDarren Quam is a unique musical experience that plays a mix of fresh original music and celebrates the sounds of the late '60s and early '70s. Covering music from groups such as Led Zeppelin\, Rolling Stones\, Jimi Hendrix\, Grateful Dead\, and many more. Come enjoy some funky blues and rock & roll music
X-ALT-DESC;FMTTYPE=text/html:Live Music with Darren Quam<br />\n<span background-color:="" font-size:="" segoe="" ui="">Darren Quam is a unique musical experience that plays a mix of fresh original music and celebrates the sounds of the late &lsquo\;60s and early &lsquo\;70s. Covering music from groups such as Led Zeppelin\, Rolling Stones\, Jimi Hendrix\, Grateful Dead\, and many more. Come enjoy some funky blues and rock &amp\; roll music</span>
LOCATION:City Brew Hall
UID:e.417.6356
SEQUENCE:3
DTSTAMP:20260421T171231Z
URL:https://business.wahpetonbreckenridgechamber.com/events/details/live-music-the-brew-6356
END:VEVENT

END:VCALENDAR
