BEGIN:VCALENDAR
VERSION:2.0
PRODID:-//ChamberMaster//Event Calendar 2.0//EN
METHOD:PUBLISH
X-PUBLISHED-TTL:P3D
REFRESH-INTERVAL:P3D
CALSCALE:GREGORIAN
BEGIN:VEVENT
DTSTART:20240322T000000Z
DTEND:20240322T030000Z
X-MICROSOFT-CDO-ALLDAYEVENT:FALSE
SUMMARY:Live Music at the Brew
DESCRIPTION:Live Music with Kyle Colby at the Brew
X-ALT-DESC;FMTTYPE=text/html:Live Music with Kyle Colby at the Brew
LOCATION:City Brew Hall
UID:e.417.5203
SEQUENCE:3
DTSTAMP:20260421T134431Z
URL:https://business.wahpetonbreckenridgechamber.com/events/details/live-music-at-the-brew-5203
END:VEVENT

END:VCALENDAR
