BEGIN:VCALENDAR
VERSION:2.0
PRODID:-//ChamberMaster//Event Calendar 2.0//EN
METHOD:PUBLISH
X-PUBLISHED-TTL:P3D
REFRESH-INTERVAL:P3D
CALSCALE:GREGORIAN
BEGIN:VEVENT
DTSTART:20220817T200000Z
DTEND:20220818T000000Z
X-MICROSOFT-CDO-ALLDAYEVENT:FALSE
SUMMARY:Leach Home Annual Open House Block Party
DESCRIPTION:THE LEACH HOME ANNUAL OPEN HOUSE BLOCK PARTY WEDNESDAY AUG. 17TH 3 P.M. TO 7 P.M.\n\nEach year\, The Leach Home hosts an Open House Block Party for our residents\, employees\, and their families. We also extend our invite to local vendors and the entire community\, so they too can enjoy the games\, food\, music and entertainment\, as well as experience first hand what makes The Leach home such a wonderful place to live and work!
X-ALT-DESC;FMTTYPE=text/html:THE LEACH HOME ANNUAL OPEN HOUSE BLOCK PARTY WEDNESDAY AUG. 17TH 3 P.M. TO 7 P.M.<br />\nEach year\, The Leach Home hosts an Open House Block Party for our residents\, employees\, and their families. We also extend our invite to local vendors and the entire community\, so they too can enjoy the games\, food\, music and entertainment\, as well as experience first hand what makes The Leach home such a wonderful place to live and work!
LOCATION:
UID:e.417.4087
SEQUENCE:3
DTSTAMP:20260421T153547Z
URL:https://business.wahpetonbreckenridgechamber.com/events/details/leach-home-annual-open-house-block-party-4087
END:VEVENT

END:VCALENDAR
