BEGIN:VCALENDAR
VERSION:2.0
PRODID:-//ChamberMaster//Event Calendar 2.0//EN
METHOD:PUBLISH
X-PUBLISHED-TTL:P3D
REFRESH-INTERVAL:P3D
CALSCALE:GREGORIAN
BEGIN:VEVENT
DTSTART;VALUE=DATE:20251018
DTEND;VALUE=DATE:20251019
TRANSP:TRANSPARENT
X-MICROSOFT-CDO-ALLDAYEVENT:TRUE
SUMMARY:Ladies Rooster Roundup
DESCRIPTION:7th Annual Ladies Rooster Roundup Pheasant Hunt\n\nHosted by the Red River Area Sportsmen's Club\n\n\n\nSaturday & Sunday\n\nSaturday\, October 18th\, 2025\n\n\n\n2-day event including instruction\, hunting\, lodging and meals. Limited spots available. \n\n\n\nRegistration\n\nApplication can be found at rrasc.net/downloads. Call for more information 701-899-2636
X-ALT-DESC;FMTTYPE=text/html:7th Annual Ladies Rooster Roundup Pheasant Hunt<br />\nHosted by the Red River Area Sportsmen&#39\;s Club<br />\n<br />\nSaturday &amp\; Sunday<br />\nSaturday\, October 18th\, 2025<br />\n<br />\n2-day event including instruction\, hunting\, lodging and meals. Limited spots available.&nbsp\;<br />\n<br />\nRegistration<br />\nApplication can be found at rrasc.net/downloads. Call for more information 701-899-2636<br />\n&nbsp\;
LOCATION:
UID:e.417.6332
SEQUENCE:3
DTSTAMP:20260421T171258Z
URL:https://business.wahpetonbreckenridgechamber.com/events/details/ladies-rooster-roundup-6332
END:VEVENT

END:VCALENDAR
